BEGIN:VCALENDAR
VERSION:2.0
PRODID:millstreamcms
METHOD:PUBLISH
UID:4o81f9kjlk9b6kfl3citahk99r@google.com
BEGIN:VEVENT
SUMMARY:M3 Assembly
DESCRIPTION:
DTSTAMP:20260424T150854Z
DTSTART:20190830
DTEND:20190831
LOCATION:
END:VEVENT
END:VCALENDAR
