BEGIN:VCALENDAR
VERSION:2.0
PRODID:millstreamcms
METHOD:PUBLISH
UID:4oarrriok3g0u6m69im681q66s@google.com
BEGIN:VEVENT
SUMMARY:M1 Assembly (Aussie of the Month Awards)
DESCRIPTION:
DTSTAMP:20260424T150923Z
DTSTART:20190913
DTEND:20190914
LOCATION:
END:VEVENT
END:VCALENDAR
