BEGIN:VCALENDAR
VERSION:2.0
PRODID:millstreamcms
METHOD:PUBLISH
UID:4orj2rulkaffg96qu5lse9e6pk@google.com
BEGIN:VEVENT
SUMMARY:School Holidays
DESCRIPTION:
DTSTAMP:20260424T150735Z
DTSTART:20190718
DTEND:20190719
LOCATION:
END:VEVENT
END:VCALENDAR
