BEGIN:VCALENDAR
VERSION:2.0
PRODID:millstreamcms
METHOD:PUBLISH
UID:4qs9ogjngjuostd6tbr8jsupp5@google.com
BEGIN:VEVENT
SUMMARY:Year 1 Brownes Dairy School Tour
DESCRIPTION:
Group 1 (JA3 & JB2) leave school at 8.50am and return at 11.50am
Group 2 (JA1 & JA2) leave school at 11.50am and return 2.15pm.
DTSTAMP:20260424T153044Z
DTSTART:20190410T005000Z
DTEND:20190410T065000Z
LOCATION:
END:VEVENT
END:VCALENDAR
