BEGIN:VCALENDAR
VERSION:2.0
PRODID:millstreamcms
METHOD:PUBLISH
UID:53184k1tj614n6pjbetrtlblf7@google.com
BEGIN:VEVENT
SUMMARY:Semester 2 reports emailed home
DESCRIPTION:
DTSTAMP:20260424T153035Z
DTSTART:20191216
DTEND:20191217
LOCATION:
END:VEVENT
END:VCALENDAR
