BEGIN:VCALENDAR
VERSION:2.0
PRODID:millstreamcms
METHOD:PUBLISH
UID:568hdg68m00p5l0dp07o0ma9d6@google.com
BEGIN:VEVENT
SUMMARY:S7 Assembly (Excellence Awards)
DESCRIPTION:
DTSTAMP:20260424T150923Z
DTSTART:20190816
DTEND:20190817
LOCATION:
END:VEVENT
END:VCALENDAR
