BEGIN:VCALENDAR
VERSION:2.0
PRODID:millstreamcms
METHOD:PUBLISH
UID:569po9snp28trpm8c3n0e3ccbj@google.com
BEGIN:VEVENT
SUMMARY:P&C Meeting
DESCRIPTION:
DTSTAMP:20260424T152750Z
DTSTART:20190403T110000Z
DTEND:20190403T123000Z
LOCATION:
END:VEVENT
END:VCALENDAR
