BEGIN:VCALENDAR
VERSION:2.0
PRODID:millstreamcms
METHOD:PUBLISH
UID:59oit78evovr2efs7djj5pjec8@google.com
BEGIN:VEVENT
SUMMARY:P&C Meeting
DESCRIPTION:
DTSTAMP:20260424T150426Z
DTSTART:20191030T110000Z
DTEND:20191030T123000Z
LOCATION:
END:VEVENT
END:VCALENDAR
