BEGIN:VCALENDAR
VERSION:2.0
PRODID:millstreamcms
METHOD:PUBLISH
UID:5bh3q09uq10rsb55qpmgf1ku0s@google.com
BEGIN:VEVENT
SUMMARY:Pre Primary Constable Care Incursion
DESCRIPTION:
DTSTAMP:20260424T152912Z
DTSTART:20191202
DTEND:20191203
LOCATION:
END:VEVENT
END:VCALENDAR
