BEGIN:VCALENDAR
VERSION:2.0
PRODID:millstreamcms
METHOD:PUBLISH
UID:5eb0fedbor40fn66ie1o8tv154@google.com
BEGIN:VEVENT
SUMMARY:Newsletter
DESCRIPTION:
DTSTAMP:20260424T153033Z
DTSTART:20181207
DTEND:20181208
LOCATION:
END:VEVENT
END:VCALENDAR
