BEGIN:VCALENDAR
VERSION:2.0
PRODID:millstreamcms
METHOD:PUBLISH
UID:5r091m396ssmelboj8psv7s9kf@google.com
BEGIN:VEVENT
SUMMARY:P&C Meeting
DESCRIPTION:
DTSTAMP:20260424T152718Z
DTSTART:20191127T110000Z
DTEND:20191127T123000Z
LOCATION:
END:VEVENT
END:VCALENDAR
