BEGIN:VCALENDAR
VERSION:2.0
PRODID:millstreamcms
METHOD:PUBLISH
UID:616nns8jqvqm42576ugnrodk87@google.com
BEGIN:VEVENT
SUMMARY:Interschool Athletics Carnival
DESCRIPTION:
DTSTAMP:20260424T150950Z
DTSTART:20190925
DTEND:20190926
LOCATION:
END:VEVENT
END:VCALENDAR
