BEGIN:VCALENDAR
VERSION:2.0
PRODID:millstreamcms
METHOD:PUBLISH
UID:62sr194sfo4qghajm3n8vmiid5@google.com
BEGIN:VEVENT
SUMMARY:ANZAC Service
DESCRIPTION:
DTSTAMP:20260424T152852Z
DTSTART:20190412T063000Z
DTEND:20190412T070000Z
LOCATION:
END:VEVENT
END:VCALENDAR
