BEGIN:VCALENDAR
VERSION:2.0
PRODID:millstreamcms
METHOD:PUBLISH
UID:6eei1lu33e79vsgcn7jha93p9p@google.com
BEGIN:VEVENT
SUMMARY:P & C Xmas Singalong
DESCRIPTION:
DTSTAMP:20260424T152731Z
DTSTART:20181207
DTEND:20181208
LOCATION:
END:VEVENT
END:VCALENDAR
