BEGIN:VCALENDAR
VERSION:2.0
PRODID:millstreamcms
METHOD:PUBLISH
UID:6mr3m99m5q2l0abmg3ae32fjst@google.com
BEGIN:VEVENT
SUMMARY:School Holidays
DESCRIPTION:
DTSTAMP:20260424T152801Z
DTSTART:20181215
DTEND:20181216
LOCATION:
END:VEVENT
END:VCALENDAR
