BEGIN:VCALENDAR
VERSION:2.0
PRODID:millstreamcms
METHOD:PUBLISH
UID:6ok3p37jmaehkhhg5t80224hmj@google.com
BEGIN:VEVENT
SUMMARY:EDU Dance Day Rehearsal & Performance Night 1
DESCRIPTION:
DTSTAMP:20260424T153657Z
DTSTART:20190626T103000Z
DTEND:20190626T120000Z
LOCATION:
END:VEVENT
END:VCALENDAR
