BEGIN:VCALENDAR
VERSION:2.0
PRODID:millstreamcms
METHOD:PUBLISH
UID:6qrof6ub3se5m6lljtuha3ag7v@google.com
BEGIN:VEVENT
SUMMARY:Interschool jumps, throws & long distance events
DESCRIPTION:
DTSTAMP:20260424T150722Z
DTSTART:20190923
DTEND:20190924
LOCATION:
END:VEVENT
END:VCALENDAR
