BEGIN:VCALENDAR
VERSION:2.0
PRODID:millstreamcms
METHOD:PUBLISH
UID:6rnoj7ji0ds94m9u0r6pmbn6op@google.com
BEGIN:VEVENT
SUMMARY:ICAS English online
DESCRIPTION:
DTSTAMP:20260424T150940Z
DTSTART:20190917
DTEND:20190918
LOCATION:
END:VEVENT
END:VCALENDAR
