BEGIN:VCALENDAR
VERSION:2.0
PRODID:millstreamcms
METHOD:PUBLISH
UID:6to5250rrt79lfagbfvuc8jk4t@google.com
BEGIN:VEVENT
SUMMARY:P&C Meeting
DESCRIPTION:
DTSTAMP:20260424T150852Z
DTSTART:20190807T110000Z
DTEND:20190807T130000Z
LOCATION:
END:VEVENT
END:VCALENDAR
