BEGIN:VCALENDAR
VERSION:2.0
PRODID:millstreamcms
METHOD:PUBLISH
UID:715412eq1q6un9ks00mrmsb40i@google.com
BEGIN:VEVENT
SUMMARY:School Board Meeting
DESCRIPTION:
DTSTAMP:20260424T150753Z
DTSTART:20190902T073000Z
DTEND:20190902T093000Z
LOCATION:
END:VEVENT
END:VCALENDAR
