BEGIN:VCALENDAR
VERSION:2.0
PRODID:millstreamcms
METHOD:PUBLISH
UID:71or16d5pejupb6buf0673h9t1@google.com
BEGIN:VEVENT
SUMMARY:Semester 2 reports emailed home
DESCRIPTION:
DTSTAMP:20260424T152746Z
DTSTART:20181210
DTEND:20181211
LOCATION:
END:VEVENT
END:VCALENDAR
