BEGIN:VCALENDAR
VERSION:2.0
PRODID:millstreamcms
METHOD:PUBLISH
UID:72q8d6ngoim3vlp985aj1guqhb@google.com
BEGIN:VEVENT
SUMMARY:Year 6 Excursin to Francis Burt Law Education Centre
DESCRIPTION:
DTSTAMP:20260424T152934Z
DTSTART:20190530T010000Z
DTEND:20190530T070000Z
LOCATION:
END:VEVENT
END:VCALENDAR
