BEGIN:VCALENDAR
VERSION:2.0
PRODID:millstreamcms
METHOD:PUBLISH
UID:73pams6ghv7v1o6cet8r8jojpg@google.com
BEGIN:VEVENT
SUMMARY:EDU Dance Day Rehearsal & Performance Night 2
DESCRIPTION:
DTSTAMP:20260424T153656Z
DTSTART:20190627T103000Z
DTEND:20190627T120000Z
LOCATION:
END:VEVENT
END:VCALENDAR
