BEGIN:VCALENDAR
VERSION:2.0
PRODID:millstreamcms
METHOD:PUBLISH
UID:7hdp36ph70hm65dv9guumkcbt7@google.com
BEGIN:VEVENT
SUMMARY:Interschool Cross Country
DESCRIPTION:
DTSTAMP:20260424T153518Z
DTSTART:20190619
DTEND:20190620
LOCATION:
END:VEVENT
END:VCALENDAR
