BEGIN:VCALENDAR
VERSION:2.0
PRODID:millstreamcms
METHOD:PUBLISH
UID:7lmd2ep9mqacgiad0c4mv38b2i@google.com
BEGIN:VEVENT
SUMMARY:School Development Day
DESCRIPTION:
DTSTAMP:20260424T150654Z
DTSTART:20190722
DTEND:20190723
LOCATION:
END:VEVENT
END:VCALENDAR
