BEGIN:VCALENDAR
VERSION:2.0
PRODID:millstreamcms
METHOD:PUBLISH
UID:7rbtpcrqptp2fjn3caoj198106@google.com
BEGIN:VEVENT
SUMMARY:JB5 Assembly (Excellence Awards)
DESCRIPTION:
DTSTAMP:20260424T153659Z
DTSTART:20190621T004500Z
DTEND:20190621T013000Z
LOCATION:
END:VEVENT
END:VCALENDAR
