BEGIN:VCALENDAR
VERSION:2.0
PRODID:millstreamcms
METHOD:PUBLISH
UID:7t19dupbcsgbinq7ecetfgpbtb@google.com
BEGIN:VEVENT
SUMMARY:JB4 Assembly (Aussie of the Month Awards)
DESCRIPTION:
DTSTAMP:20260424T153428Z
DTSTART:20190607T004500Z
DTEND:20190607T013000Z
LOCATION:
END:VEVENT
END:VCALENDAR
