BEGIN:VCALENDAR
VERSION:2.0
PRODID:millstreamcms
METHOD:PUBLISH
UID:7tkcqf0tqr99b01gqsd4dnjuu6@google.com
BEGIN:VEVENT
SUMMARY:Jumps, throws & long distance events.
DESCRIPTION:
DTSTAMP:20260424T150709Z
DTSTART:20190902
DTEND:20190903
LOCATION:
END:VEVENT
END:VCALENDAR
