BEGIN:VCALENDAR
VERSION:2.0
PRODID:millstreamcms
METHOD:PUBLISH
UID:stk25b95l555ipp6vcgpt9humo@google.com
BEGIN:VEVENT
SUMMARY:PP Funky Fitness Lessons
DESCRIPTION:
DTSTAMP:20260424T152940Z
DTSTART:20181206
DTEND:20181207
LOCATION:
END:VEVENT
END:VCALENDAR
