BEGIN:VCALENDAR
VERSION:2.0
PRODID:millstreamcms
METHOD:PUBLISH
UID:01lnki38ccr8b48ko25vjgg8ov_R20190502@google.com
BEGIN:VEVENT
SUMMARY:EDU Dance Lessons
DESCRIPTION:Edu Dance Lessons Years 1-6.
DTSTAMP:20200301T223845Z
DTSTART:20190620
DTEND:20190621
LOCATION:
END:VEVENT
END:VCALENDAR
