BEGIN:VCALENDAR
VERSION:2.0
PRODID:millstreamcms
METHOD:PUBLISH
UID:02f20v0j9pafdj60bi8sslq2of@google.com
BEGIN:VEVENT
SUMMARY:2020 Student Councillor Election
DESCRIPTION:
DTSTAMP:20200301T220426Z
DTSTART:20191121
DTEND:20191122
LOCATION:
END:VEVENT
END:VCALENDAR
