BEGIN:VCALENDAR
VERSION:2.0
PRODID:millstreamcms
METHOD:PUBLISH
UID:0i619e0nut2flsts0eqv82dfra@google.com
BEGIN:VEVENT
SUMMARY:P&C Meeting
DESCRIPTION:
DTSTAMP:20200301T221509Z
DTSTART:20190904T110000Z
DTEND:20190904T130000Z
LOCATION:
END:VEVENT
END:VCALENDAR
