BEGIN:VCALENDAR
VERSION:2.0
PRODID:millstreamcms
METHOD:PUBLISH
UID:0ojo2iu8k9rjoq0b5he8d10mpp@google.com
BEGIN:VEVENT
SUMMARY:WA Day
DESCRIPTION:
DTSTAMP:20200301T223722Z
DTSTART:20190603
DTEND:20190604
LOCATION:
END:VEVENT
END:VCALENDAR
