BEGIN:VCALENDAR
VERSION:2.0
PRODID:millstreamcms
METHOD:PUBLISH
UID:150r3de2ph5jq3mqr609pfcm4c@google.com
BEGIN:VEVENT
SUMMARY:Jeans 4 Genes Day
DESCRIPTION:
DTSTAMP:20200301T222301Z
DTSTART:20190809
DTEND:20190810
LOCATION:
END:VEVENT
END:VCALENDAR
