BEGIN:VCALENDAR
VERSION:2.0
PRODID:millstreamcms
METHOD:PUBLISH
UID:1a9neip857fhp4arh6ob60af4d@google.com
BEGIN:VEVENT
SUMMARY:Newsletter
DESCRIPTION:
DTSTAMP:20200301T225520Z
DTSTART:20190322
DTEND:20190323
LOCATION:
END:VEVENT
END:VCALENDAR
