BEGIN:VCALENDAR
VERSION:2.0
PRODID:millstreamcms
METHOD:PUBLISH
UID:1k484jdiv67ph70mi5aq2e480l@google.com
BEGIN:VEVENT
SUMMARY:P&C Meeting7.00pm
DESCRIPTION:
DTSTAMP:20200301T224321Z
DTSTART:20190501T110000Z
DTEND:20190501T123000Z
LOCATION:
END:VEVENT
END:VCALENDAR
