BEGIN:VCALENDAR
VERSION:2.0
PRODID:millstreamcms
METHOD:PUBLISH
UID:1kcvs3qdhh6l1galm378v2mmtl@google.com
BEGIN:VEVENT
SUMMARY:Scitech Family Fun Night
DESCRIPTION:
DTSTAMP:20200301T222225Z
DTSTART:20190802T093000Z
DTEND:20190802T123000Z
LOCATION:
END:VEVENT
END:VCALENDAR
