BEGIN:VCALENDAR
VERSION:2.0
PRODID:millstreamcms
METHOD:PUBLISH
UID:1ponp7o9vhlr51o4olbnt0l6nf@google.com
BEGIN:VEVENT
SUMMARY:PP Funky Fitness
DESCRIPTION:
DTSTAMP:20200301T223209Z
DTSTART:20190724
DTEND:20190725
LOCATION:
END:VEVENT
END:VCALENDAR
