BEGIN:VCALENDAR
VERSION:2.0
PRODID:millstreamcms
METHOD:PUBLISH
UID:1ponp7o9vhlr51o4olbnt0l6nf@google.com
BEGIN:VEVENT
SUMMARY:PP Funky Fitness
DESCRIPTION:
DTSTAMP:20200301T222408Z
DTSTART:20190821
DTEND:20190822
LOCATION:
END:VEVENT
END:VCALENDAR
