BEGIN:VCALENDAR
VERSION:2.0
PRODID:millstreamcms
METHOD:PUBLISH
UID:1ponp7o9vhlr51o4olbnt0l6nf@google.com
BEGIN:VEVENT
SUMMARY:PP Funky Fitness
DESCRIPTION:
DTSTAMP:20200301T221618Z
DTSTART:20190918
DTEND:20190919
LOCATION:
END:VEVENT
END:VCALENDAR
