BEGIN:VCALENDAR
VERSION:2.0
PRODID:millstreamcms
METHOD:PUBLISH
UID:1vf6tj5ooojcfe15ul3bi1rfvk@google.com
BEGIN:VEVENT
SUMMARY:Year 5/6 Lunchtime Faction AFL
DESCRIPTION:
DTSTAMP:20200301T220315Z
DTSTART:20191101T043000Z
DTEND:20191101T050000Z
LOCATION:
END:VEVENT
END:VCALENDAR
