BEGIN:VCALENDAR
VERSION:2.0
PRODID:millstreamcms
METHOD:PUBLISH
UID:250v3jlv1dkchlcpkhuchmpjnr@google.com
BEGIN:VEVENT
SUMMARY:Mt Hawthorn Area Bans Performance
DESCRIPTION:
DTSTAMP:20200301T220342Z
DTSTART:20191107T010000Z
DTEND:20191107T020000Z
LOCATION:
END:VEVENT
END:VCALENDAR
