BEGIN:VCALENDAR
VERSION:2.0
PRODID:millstreamcms
METHOD:PUBLISH
UID:258p1h8ummiclbpv3ut39qqbk4@google.com
BEGIN:VEVENT
SUMMARY:M1 & M2 Excursion to Kings Park
DESCRIPTION:
DTSTAMP:20200301T222457Z
DTSTART:20190828
DTEND:20190829
LOCATION:
END:VEVENT
END:VCALENDAR
