BEGIN:VCALENDAR
VERSION:2.0
PRODID:millstreamcms
METHOD:PUBLISH
UID:26cbkcnp9vp1rost7914nk7ftf@google.com
BEGIN:VEVENT
SUMMARY:S8 Assembly (Aussie of the Month & Excellence Awards)
DESCRIPTION:
DTSTAMP:20200301T225015Z
DTSTART:20190412T004500Z
DTEND:20190412T013000Z
LOCATION:
END:VEVENT
END:VCALENDAR
