BEGIN:VCALENDAR
VERSION:2.0
PRODID:millstreamcms
METHOD:PUBLISH
UID:2a7mn79doqru0e4jiapp8hc9si@google.com
BEGIN:VEVENT
SUMMARY:Newsletter
DESCRIPTION:
DTSTAMP:20200301T220304Z
DTSTART:20191101
DTEND:20191102
LOCATION:
END:VEVENT
END:VCALENDAR
