BEGIN:VCALENDAR
VERSION:2.0
PRODID:millstreamcms
METHOD:PUBLISH
UID:2a7mn79doqru0e4jiapp8hc9si@google.com
BEGIN:VEVENT
SUMMARY:Newsletter
DESCRIPTION:
DTSTAMP:20200301T215634Z
DTSTART:20191213
DTEND:20191214
LOCATION:
END:VEVENT
END:VCALENDAR
