BEGIN:VCALENDAR
VERSION:2.0
PRODID:millstreamcms
METHOD:PUBLISH
UID:2a7mn79doqru0e4jiapp8hc9si@google.com
BEGIN:VEVENT
SUMMARY:Newsletter
DESCRIPTION:
DTSTAMP:20200301T215145Z
DTSTART:20200320
DTEND:20200321
LOCATION:
END:VEVENT
END:VCALENDAR
