BEGIN:VCALENDAR
VERSION:2.0
PRODID:millstreamcms
METHOD:PUBLISH
UID:2gnri5fm98vu7l3n08qsf654p2@google.com
BEGIN:VEVENT
SUMMARY:PP & Year 1 On Entry Reports go Home
DESCRIPTION:
DTSTAMP:20200301T225526Z
DTSTART:20190325
DTEND:20190326
LOCATION:
END:VEVENT
END:VCALENDAR
