BEGIN:VCALENDAR
VERSION:2.0
PRODID:millstreamcms
METHOD:PUBLISH
UID:2h98a6rggk5d1kdk55oekskeaj@google.com
BEGIN:VEVENT
SUMMARY:School Photos K & PP
DESCRIPTION:
DTSTAMP:20200301T221602Z
DTSTART:20190916
DTEND:20190917
LOCATION:
END:VEVENT
END:VCALENDAR
