BEGIN:VCALENDAR
VERSION:2.0
PRODID:millstreamcms
METHOD:PUBLISH
UID:2hsbqd6qdeqaqg749snfo2ba7u@google.com
BEGIN:VEVENT
SUMMARY:JA1 & JA3 Assembly (Aussie of the Month Awards)
DESCRIPTION:
DTSTAMP:20200301T215606Z
DTSTART:20191206T010000Z
DTEND:20191206T013000Z
LOCATION:
END:VEVENT
END:VCALENDAR
